BEGIN:VCALENDAR
VERSION:2.0
PRODID:cnerc-cthmp.hkust.edu.hk
BEGIN:VEVENT
UID:69e61fa66d1ef
DTSTART;VALUE=DATE:20210827
SEQUENCE:0
TRANSP:OPAQUE
DTEND;VALUE=DATE:20210828
SUMMARY:Nanobubbles: An emerging frontier in environmental and agricultural
  applications
CLASS:PUBLIC
DESCRIPTION:Nanobubbles: An emerging frontier in environmental and agricult
 ural applications
X-MICROSOFT-CDO-ALLDAYEVENT:TRUE
DTSTAMP:20260420T124422Z
END:VEVENT
END:VCALENDAR